BEGIN:VCALENDAR
VERSION:2.0
PRODID:-//Thomas R. Guskey &amp; Associates - ECPv6.15.15//NONSGML v1.0//EN
CALSCALE:GREGORIAN
METHOD:PUBLISH
X-ORIGINAL-URL:https://tguskey.com
X-WR-CALDESC:Events for Thomas R. Guskey &amp; Associates
REFRESH-INTERVAL;VALUE=DURATION:PT1H
X-Robots-Tag:noindex
X-PUBLISHED-TTL:PT1H
BEGIN:VTIMEZONE
TZID:America/Indiana/Indianapolis
BEGIN:DAYLIGHT
TZOFFSETFROM:-0500
TZOFFSETTO:-0400
TZNAME:EDT
DTSTART:20250309T070000
END:DAYLIGHT
BEGIN:STANDARD
TZOFFSETFROM:-0400
TZOFFSETTO:-0500
TZNAME:EST
DTSTART:20251102T060000
END:STANDARD
BEGIN:DAYLIGHT
TZOFFSETFROM:-0500
TZOFFSETTO:-0400
TZNAME:EDT
DTSTART:20260308T070000
END:DAYLIGHT
BEGIN:STANDARD
TZOFFSETFROM:-0400
TZOFFSETTO:-0500
TZNAME:EST
DTSTART:20261101T060000
END:STANDARD
BEGIN:DAYLIGHT
TZOFFSETFROM:-0500
TZOFFSETTO:-0400
TZNAME:EDT
DTSTART:20270314T070000
END:DAYLIGHT
BEGIN:STANDARD
TZOFFSETFROM:-0400
TZOFFSETTO:-0500
TZNAME:EST
DTSTART:20271107T060000
END:STANDARD
END:VTIMEZONE
BEGIN:VEVENT
DTSTART;VALUE=DATE:20260505
DTEND;VALUE=DATE:20260506
DTSTAMP:20260423T123004
CREATED:20251218T211409Z
LAST-MODIFIED:20251218T211409Z
UID:2979-1777939200-1778025599@tguskey.com
SUMMARY:Virtual Spring STAGR Conference\, FIRST Educational Resources - VIRTUAL
DESCRIPTION:
URL:https://tguskey.com/event/virtual-spring-stagr-conference-first-educational-resources-virtual-2/
END:VEVENT
BEGIN:VEVENT
DTSTART;VALUE=DATE:20260523
DTEND;VALUE=DATE:20260530
DTSTAMP:20260423T123004
CREATED:20260324T232932Z
LAST-MODIFIED:20260324T232932Z
UID:3016-1779494400-1780099199@tguskey.com
SUMMARY:Kamehameha Schools Kapalama High School\, Honolulu\, HI
DESCRIPTION:
URL:https://tguskey.com/event/kamehameha-schools-kapalama-high-school-honolulu-hi/
END:VEVENT
BEGIN:VEVENT
DTSTART;VALUE=DATE:20260615
DTEND;VALUE=DATE:20260616
DTSTAMP:20260423T123004
CREATED:20260129T222827Z
LAST-MODIFIED:20260129T222827Z
UID:3010-1781481600-1781567999@tguskey.com
SUMMARY:School District of Greenfield\, Greenfield\, WI
DESCRIPTION:
URL:https://tguskey.com/event/school-district-of-greenfield-greenfield-wi/
END:VEVENT
BEGIN:VEVENT
DTSTART;VALUE=DATE:20260904
DTEND;VALUE=DATE:20260905
DTSTAMP:20260423T123004
CREATED:20260324T233015Z
LAST-MODIFIED:20260324T233015Z
UID:3018-1788480000-1788566399@tguskey.com
SUMMARY:Downsville Central School District\, Downsville\, NY - VIRTUAL
DESCRIPTION:
URL:https://tguskey.com/event/downsville-central-school-district-downsville-ny-virtual/
END:VEVENT
BEGIN:VEVENT
DTSTART;VALUE=DATE:20260919
DTEND;VALUE=DATE:20260930
DTSTAMP:20260423T123004
CREATED:20251218T211538Z
LAST-MODIFIED:20251218T211538Z
UID:2981-1789776000-1790726399@tguskey.com
SUMMARY:Reserved
DESCRIPTION:
URL:https://tguskey.com/event/reserved-9/
END:VEVENT
BEGIN:VEVENT
DTSTART;VALUE=DATE:20260919
DTEND;VALUE=DATE:20260930
DTSTAMP:20260423T123004
CREATED:20260324T233101Z
LAST-MODIFIED:20260324T233101Z
UID:3020-1789776000-1790726399@tguskey.com
SUMMARY:Reserved
DESCRIPTION:
URL:https://tguskey.com/event/reserved-8/
END:VEVENT
BEGIN:VEVENT
DTSTART;VALUE=DATE:20261106
DTEND;VALUE=DATE:20261107
DTSTAMP:20260423T123004
CREATED:20260324T233138Z
LAST-MODIFIED:20260324T233138Z
UID:3022-1793923200-1794009599@tguskey.com
SUMMARY:Independent Schools Association of the Central States\, Detroit\, MI
DESCRIPTION:
URL:https://tguskey.com/event/independent-schools-association-of-the-central-states-detroit-mi/
END:VEVENT
BEGIN:VEVENT
DTSTART;VALUE=DATE:20261106
DTEND;VALUE=DATE:20261107
DTSTAMP:20260423T123004
CREATED:20260324T233236Z
LAST-MODIFIED:20260324T233236Z
UID:3024-1793923200-1794009599@tguskey.com
SUMMARY:Independent Schools Association of the Central States\, Detroit\, MI
DESCRIPTION:
URL:https://tguskey.com/event/independent-schools-association-of-the-central-states-detroit-mi-2/
END:VEVENT
BEGIN:VEVENT
DTSTART;VALUE=DATE:20261106
DTEND;VALUE=DATE:20261113
DTSTAMP:20260423T123004
CREATED:20260324T233306Z
LAST-MODIFIED:20260324T233306Z
UID:3026-1793923200-1794527999@tguskey.com
SUMMARY:Reserved
DESCRIPTION:
URL:https://tguskey.com/event/reserved-10/
END:VEVENT
BEGIN:VEVENT
DTSTART;VALUE=DATE:20261112
DTEND;VALUE=DATE:20261115
DTSTAMP:20260423T123004
CREATED:20260324T233337Z
LAST-MODIFIED:20260324T233337Z
UID:3028-1794441600-1794700799@tguskey.com
SUMMARY:Learning & the Brain Conference\, Austin\, TX
DESCRIPTION:
URL:https://tguskey.com/event/learning-the-brain-conference-austin-tx/
END:VEVENT
BEGIN:VEVENT
DTSTART;VALUE=DATE:20261205
DTEND;VALUE=DATE:20261209
DTSTAMP:20260423T123004
CREATED:20260324T233409Z
LAST-MODIFIED:20260324T233409Z
UID:3030-1796428800-1796774399@tguskey.com
SUMMARY:Learning Forward Conference\, Dallas\, TX
DESCRIPTION:
URL:https://tguskey.com/event/learning-forward-conference-dallas-tx/
END:VEVENT
END:VCALENDAR