BEGIN:VCALENDAR
VERSION:2.0
PRODID:-//Thomas R. Guskey &amp; Associates - ECPv6.15.15//NONSGML v1.0//EN
CALSCALE:GREGORIAN
METHOD:PUBLISH
X-WR-CALNAME:Thomas R. Guskey &amp; Associates
X-ORIGINAL-URL:https://tguskey.com
X-WR-CALDESC:Events for Thomas R. Guskey &amp; Associates
REFRESH-INTERVAL;VALUE=DURATION:PT1H
X-Robots-Tag:noindex
X-PUBLISHED-TTL:PT1H
BEGIN:VTIMEZONE
TZID:America/Indiana/Indianapolis
BEGIN:DAYLIGHT
TZOFFSETFROM:-0500
TZOFFSETTO:-0400
TZNAME:EDT
DTSTART:20210314T070000
END:DAYLIGHT
BEGIN:STANDARD
TZOFFSETFROM:-0400
TZOFFSETTO:-0500
TZNAME:EST
DTSTART:20211107T060000
END:STANDARD
BEGIN:DAYLIGHT
TZOFFSETFROM:-0500
TZOFFSETTO:-0400
TZNAME:EDT
DTSTART:20220313T070000
END:DAYLIGHT
BEGIN:STANDARD
TZOFFSETFROM:-0400
TZOFFSETTO:-0500
TZNAME:EST
DTSTART:20221106T060000
END:STANDARD
BEGIN:DAYLIGHT
TZOFFSETFROM:-0500
TZOFFSETTO:-0400
TZNAME:EDT
DTSTART:20230312T070000
END:DAYLIGHT
BEGIN:STANDARD
TZOFFSETFROM:-0400
TZOFFSETTO:-0500
TZNAME:EST
DTSTART:20231105T060000
END:STANDARD
BEGIN:DAYLIGHT
TZOFFSETFROM:-0500
TZOFFSETTO:-0400
TZNAME:EDT
DTSTART:20240310T070000
END:DAYLIGHT
BEGIN:STANDARD
TZOFFSETFROM:-0400
TZOFFSETTO:-0500
TZNAME:EST
DTSTART:20241103T060000
END:STANDARD
END:VTIMEZONE
BEGIN:VEVENT
DTSTART;VALUE=DATE:20230331
DTEND;VALUE=DATE:20230404
DTSTAMP:20260425T064628
CREATED:20221208T211311Z
LAST-MODIFIED:20221208T211508Z
UID:2481-1680220800-1680566399@tguskey.com
SUMMARY:ASCD Annual Conference\, Denver\, CO
DESCRIPTION:
URL:https://tguskey.com/event/ascd-annual-conference-denver-co/
END:VEVENT
BEGIN:VEVENT
DTSTART;VALUE=DATE:20230327
DTEND;VALUE=DATE:20230328
DTSTAMP:20260425T064628
CREATED:20221128T170611Z
LAST-MODIFIED:20221128T170611Z
UID:2467-1679875200-1679961599@tguskey.com
SUMMARY:Ontario Mathematics Coordinators Association\, Kanata\, Ontario  VIRTUAL
DESCRIPTION:
URL:https://tguskey.com/event/ontario-mathematics-coordinators-association-kanata-ontario-virtual/
END:VEVENT
BEGIN:VEVENT
DTSTART;VALUE=DATE:20230320
DTEND;VALUE=DATE:20230321
DTSTAMP:20260425T064628
CREATED:20220813T175943Z
LAST-MODIFIED:20220813T175943Z
UID:2331-1679270400-1679356799@tguskey.com
SUMMARY:Jefferson County Public Schools\, Louisville\, KY  VIRTUAL
DESCRIPTION:
URL:https://tguskey.com/event/jefferson-county-public-schools-louisville-ky-virtual-14/
END:VEVENT
BEGIN:VEVENT
DTSTART;VALUE=DATE:20230317
DTEND;VALUE=DATE:20230318
DTSTAMP:20260425T064628
CREATED:20221011T202237Z
LAST-MODIFIED:20230115T213142Z
UID:2390-1679011200-1679097599@tguskey.com
SUMMARY:Gowanda Central School District\, Gowanda\, NY
DESCRIPTION:
URL:https://tguskey.com/event/gowanda-central-school-district-gowanda-ny-virtual/
END:VEVENT
BEGIN:VEVENT
DTSTART;VALUE=DATE:20230313
DTEND;VALUE=DATE:20230314
DTSTAMP:20260425T064628
CREATED:20220813T180946Z
LAST-MODIFIED:20220813T180946Z
UID:2340-1678665600-1678751999@tguskey.com
SUMMARY:Richmond County School System\, Augusta\, GA  VIRTUAL
DESCRIPTION:
URL:https://tguskey.com/event/richmond-county-school-system-augusta-ga-virtual/
END:VEVENT
BEGIN:VEVENT
DTSTART;VALUE=DATE:20230309
DTEND;VALUE=DATE:20230311
DTSTAMP:20260425T064628
CREATED:20221128T170445Z
LAST-MODIFIED:20221128T170445Z
UID:2465-1678320000-1678492799@tguskey.com
SUMMARY:Binghamton Central School District\, Binghamton\, NY
DESCRIPTION:
URL:https://tguskey.com/event/binghamton-central-school-district-binghamton-ny/
END:VEVENT
BEGIN:VEVENT
DTSTART;VALUE=DATE:20230306
DTEND;VALUE=DATE:20230307
DTSTAMP:20260425T064628
CREATED:20230211T182733Z
LAST-MODIFIED:20230211T182733Z
UID:2507-1678060800-1678147199@tguskey.com
SUMMARY:Scarsdale High School\, Scarsdale\, NY
DESCRIPTION:
URL:https://tguskey.com/event/scarsdale-high-school-scarsdale-ny/
END:VEVENT
BEGIN:VEVENT
DTSTART;VALUE=DATE:20230222
DTEND;VALUE=DATE:20230223
DTSTAMP:20260425T064628
CREATED:20220514T151448Z
LAST-MODIFIED:20220514T151448Z
UID:2274-1677024000-1677110399@tguskey.com
SUMMARY:Illinois Mathematics and Science Academy\, Aurora\, IL  VIRTUAL
DESCRIPTION:
URL:https://tguskey.com/event/illinois-mathematics-and-science-academy-aurora-il-virtual-4/
END:VEVENT
BEGIN:VEVENT
DTSTART;VALUE=DATE:20230213
DTEND;VALUE=DATE:20230214
DTSTAMP:20260425T064628
CREATED:20220813T175749Z
LAST-MODIFIED:20220813T175749Z
UID:2327-1676246400-1676332799@tguskey.com
SUMMARY:Jefferson County Public Schools\, Louisville\, KY  VIRTUAL
DESCRIPTION:
URL:https://tguskey.com/event/jefferson-county-public-schools-louisville-ky-virtual-13/
END:VEVENT
BEGIN:VEVENT
DTSTART;VALUE=DATE:20230206
DTEND;VALUE=DATE:20230209
DTSTAMP:20260425T064628
CREATED:20230211T182220Z
LAST-MODIFIED:20230211T182220Z
UID:2500-1675641600-1675900799@tguskey.com
SUMMARY:AAIE 2023 Global Leadership CONVERSATION\, Washington\, DC
DESCRIPTION:
URL:https://tguskey.com/event/aaie-2023-global-leadership-conversation-washington-dc-2/
END:VEVENT
BEGIN:VEVENT
DTSTART;VALUE=DATE:20230112
DTEND;VALUE=DATE:20230113
DTSTAMP:20260425T064628
CREATED:20221011T202206Z
LAST-MODIFIED:20221011T202206Z
UID:2388-1673481600-1673567999@tguskey.com
SUMMARY:SMIC Private School - International\, Shanghai\, China  VIRTUAL
DESCRIPTION:
URL:https://tguskey.com/event/smic-private-school-international-shanghai-china-virtual-2/
END:VEVENT
BEGIN:VEVENT
DTSTART;VALUE=DATE:20221227
DTEND;VALUE=DATE:20221228
DTSTAMP:20260425T064628
CREATED:20221208T211143Z
LAST-MODIFIED:20221208T211143Z
UID:2478-1672099200-1672185599@tguskey.com
SUMMARY:Ontario Mathematics Coordinators Association\, Kanata\, Ontario  VIRTUAL
DESCRIPTION:
URL:https://tguskey.com/event/ontario-mathematics-coordinators-association-kanata-ontario-virtual-2/
END:VEVENT
BEGIN:VEVENT
DTSTART;VALUE=DATE:20221209
DTEND;VALUE=DATE:20221210
DTSTAMP:20260425T064628
CREATED:20221128T170214Z
LAST-MODIFIED:20221128T170657Z
UID:2463-1670544000-1670630399@tguskey.com
SUMMARY:Maryland State Department of Education\, Baltimore\, MD  VIRTUAL
DESCRIPTION:
URL:https://tguskey.com/event/maryland-state-department-of-education-baltimore-md-virtual-3/
END:VEVENT
BEGIN:VEVENT
DTSTART;VALUE=DATE:20221204
DTEND;VALUE=DATE:20221207
DTSTAMP:20260425T064628
CREATED:20220219T225410Z
LAST-MODIFIED:20220219T225858Z
UID:2171-1670112000-1670371199@tguskey.com
SUMMARY:Learning Forward Conference\, Nashville\, TN
DESCRIPTION:
URL:https://tguskey.com/event/learning-forward-conference-nashville-tn/
END:VEVENT
BEGIN:VEVENT
DTSTART;VALUE=DATE:20221128
DTEND;VALUE=DATE:20221129
DTSTAMP:20260425T064628
CREATED:20220813T175551Z
LAST-MODIFIED:20220813T180700Z
UID:2323-1669593600-1669679999@tguskey.com
SUMMARY:Jefferson County Public Schools\, Louisville\, KY  VIRTUAL
DESCRIPTION:
URL:https://tguskey.com/event/jefferson-county-public-schools-louisville-ky-virtual-11/
END:VEVENT
BEGIN:VEVENT
DTSTART;VALUE=DATE:20221102
DTEND;VALUE=DATE:20221106
DTSTAMP:20260425T064628
CREATED:20220514T151413Z
LAST-MODIFIED:20220514T151413Z
UID:2272-1667347200-1667692799@tguskey.com
SUMMARY:Mediterranean Association of International Schools\, Rome\, Italy
DESCRIPTION:
URL:https://tguskey.com/event/mediterranean-association-of-international-schools-rome-italy/
END:VEVENT
BEGIN:VEVENT
DTSTART;VALUE=DATE:20221025
DTEND;VALUE=DATE:20221026
DTSTAMP:20260425T064628
CREATED:20221011T202010Z
LAST-MODIFIED:20221011T202010Z
UID:2385-1666656000-1666742399@tguskey.com
SUMMARY:FIRST Educational Resources Standards-Based Assessment Conference  VIRTUAL
DESCRIPTION:
URL:https://tguskey.com/event/first-educational-resources-standards-based-assessment-conference-virtual/
END:VEVENT
BEGIN:VEVENT
DTSTART;VALUE=DATE:20221024
DTEND;VALUE=DATE:20221025
DTSTAMP:20260425T064628
CREATED:20221011T201947Z
LAST-MODIFIED:20221011T201947Z
UID:2383-1666569600-1666655999@tguskey.com
SUMMARY:Foundation Against Intolerance and Racism (FAIR)\, Stamford\, CT  VIRTUAL
DESCRIPTION:
URL:https://tguskey.com/event/foundation-against-intolerance-and-racism-fair-stamford-ct-virtual/
END:VEVENT
BEGIN:VEVENT
DTSTART;VALUE=DATE:20221024
DTEND;VALUE=DATE:20221025
DTSTAMP:20260425T064628
CREATED:20221011T201917Z
LAST-MODIFIED:20221011T201917Z
UID:2381-1666569600-1666655999@tguskey.com
SUMMARY:Jefferson County Public Schools\, Louisville\, KY  VIRTUAL
DESCRIPTION:
URL:https://tguskey.com/event/jefferson-county-public-schools-louisville-ky-virtual-16/
END:VEVENT
BEGIN:VEVENT
DTSTART;VALUE=DATE:20221019
DTEND;VALUE=DATE:20221020
DTSTAMP:20260425T064628
CREATED:20220616T221148Z
LAST-MODIFIED:20221011T201836Z
UID:2288-1666137600-1666223999@tguskey.com
SUMMARY:FIRST Educational Resources STAGR Session  VIRTUAL
DESCRIPTION:
URL:https://tguskey.com/event/first-educational-resources-stagr-session-virtual-2/
END:VEVENT
BEGIN:VEVENT
DTSTART;VALUE=DATE:20221012
DTEND;VALUE=DATE:20221017
DTSTAMP:20260425T064628
CREATED:20220419T214922Z
LAST-MODIFIED:20220419T214922Z
UID:2229-1665532800-1665964799@tguskey.com
SUMMARY:NESA Leadership Conference\, Abu Dhabi\, UAE
DESCRIPTION:
URL:https://tguskey.com/event/nesa-leadership-conference-abu-dhabi-uae/
END:VEVENT
BEGIN:VEVENT
DTSTART;VALUE=DATE:20220927
DTEND;VALUE=DATE:20221010
DTSTAMP:20260425T064628
CREATED:20220813T175324Z
LAST-MODIFIED:20220813T175324Z
UID:2321-1664236800-1665359999@tguskey.com
SUMMARY:(RESERVED)
DESCRIPTION:
URL:https://tguskey.com/event/reserved/
END:VEVENT
BEGIN:VEVENT
DTSTART;VALUE=DATE:20220923
DTEND;VALUE=DATE:20220924
DTSTAMP:20260425T064628
CREATED:20221011T201724Z
LAST-MODIFIED:20221011T201724Z
UID:2379-1663891200-1663977599@tguskey.com
SUMMARY:Greenville Area School District\, Greenville\, PA
DESCRIPTION:
URL:https://tguskey.com/event/greenville-area-school-district-greenville-pa/
END:VEVENT
BEGIN:VEVENT
DTSTART;VALUE=DATE:20220922
DTEND;VALUE=DATE:20220926
DTSTAMP:20260425T064628
CREATED:20220813T175131Z
LAST-MODIFIED:20221011T201755Z
UID:2319-1663804800-1664150399@tguskey.com
SUMMARY:Thiel College\, Greenville\, PA
DESCRIPTION:
URL:https://tguskey.com/event/thiel-college-greenville-pa-2/
END:VEVENT
BEGIN:VEVENT
DTSTART;VALUE=DATE:20220920
DTEND;VALUE=DATE:20220921
DTSTAMP:20260425T064628
CREATED:20220129T230433Z
LAST-MODIFIED:20220129T230433Z
UID:2135-1663632000-1663718399@tguskey.com
SUMMARY:Region 10 Education Service Center\, Dallas\, TX
DESCRIPTION:
URL:https://tguskey.com/event/region-10-education-service-center-dallas-tx/
END:VEVENT
BEGIN:VEVENT
DTSTART;VALUE=DATE:20220915
DTEND;VALUE=DATE:20220916
DTSTAMP:20260425T064628
CREATED:20220813T175108Z
LAST-MODIFIED:20220813T175108Z
UID:2317-1663200000-1663286399@tguskey.com
SUMMARY:School District of Greenfield\, Greenfield\, WI  VIRTUAL
DESCRIPTION:
URL:https://tguskey.com/event/school-district-of-greenfield-greenfield-wi-virtual-3/
END:VEVENT
BEGIN:VEVENT
DTSTART;VALUE=DATE:20220901
DTEND;VALUE=DATE:20220902
DTSTAMP:20260425T064628
CREATED:20220419T214850Z
LAST-MODIFIED:20220419T214850Z
UID:2227-1661990400-1662076799@tguskey.com
SUMMARY:Orono High School\, Orono\, MN
DESCRIPTION:
URL:https://tguskey.com/event/orono-high-school-orono-mn/
END:VEVENT
BEGIN:VEVENT
DTSTART;VALUE=DATE:20220830
DTEND;VALUE=DATE:20220831
DTSTAMP:20260425T064628
CREATED:20211122T172429Z
LAST-MODIFIED:20211122T172429Z
UID:2109-1661817600-1661903999@tguskey.com
SUMMARY:Tower Hill School\, Wilmington\, DE
DESCRIPTION:
URL:https://tguskey.com/event/tower-hill-school-wilmington-de/
END:VEVENT
BEGIN:VEVENT
DTSTART;VALUE=DATE:20220817
DTEND;VALUE=DATE:20220820
DTSTAMP:20260425T064628
CREATED:20220419T214822Z
LAST-MODIFIED:20220419T215849Z
UID:2225-1660694400-1660953599@tguskey.com
SUMMARY:Bethel School District #403\, Spanaway\, WA  VIRTUAL
DESCRIPTION:
URL:https://tguskey.com/event/bethel-school-district-403-spanaway-wa-virtual/
END:VEVENT
BEGIN:VEVENT
DTSTART;VALUE=DATE:20220816
DTEND;VALUE=DATE:20220817
DTSTAMP:20260425T064628
CREATED:20220813T175032Z
LAST-MODIFIED:20220813T175032Z
UID:2315-1660608000-1660694399@tguskey.com
SUMMARY:Barbara Worth Junior High School\, Brawley\, CA  VIRTUAL
DESCRIPTION:
URL:https://tguskey.com/event/barbara-worth-junior-high-school-brawley-ca-virtual-2/
END:VEVENT
END:VCALENDAR