BEGIN:VCALENDAR
VERSION:2.0
PRODID:-//Thomas R. Guskey &amp; Associates - ECPv6.15.15//NONSGML v1.0//EN
CALSCALE:GREGORIAN
METHOD:PUBLISH
X-WR-CALNAME:Thomas R. Guskey &amp; Associates
X-ORIGINAL-URL:https://tguskey.com
X-WR-CALDESC:Events for Thomas R. Guskey &amp; Associates
REFRESH-INTERVAL;VALUE=DURATION:PT1H
X-Robots-Tag:noindex
X-PUBLISHED-TTL:PT1H
BEGIN:VTIMEZONE
TZID:America/Indiana/Indianapolis
BEGIN:DAYLIGHT
TZOFFSETFROM:-0500
TZOFFSETTO:-0400
TZNAME:EDT
DTSTART:20210314T070000
END:DAYLIGHT
BEGIN:STANDARD
TZOFFSETFROM:-0400
TZOFFSETTO:-0500
TZNAME:EST
DTSTART:20211107T060000
END:STANDARD
BEGIN:DAYLIGHT
TZOFFSETFROM:-0500
TZOFFSETTO:-0400
TZNAME:EDT
DTSTART:20220313T070000
END:DAYLIGHT
BEGIN:STANDARD
TZOFFSETFROM:-0400
TZOFFSETTO:-0500
TZNAME:EST
DTSTART:20221106T060000
END:STANDARD
BEGIN:DAYLIGHT
TZOFFSETFROM:-0500
TZOFFSETTO:-0400
TZNAME:EDT
DTSTART:20230312T070000
END:DAYLIGHT
BEGIN:STANDARD
TZOFFSETFROM:-0400
TZOFFSETTO:-0500
TZNAME:EST
DTSTART:20231105T060000
END:STANDARD
END:VTIMEZONE
BEGIN:VEVENT
DTSTART;VALUE=DATE:20220927
DTEND;VALUE=DATE:20221010
DTSTAMP:20260424T145632
CREATED:20220813T175324Z
LAST-MODIFIED:20220813T175324Z
UID:2321-1664236800-1665359999@tguskey.com
SUMMARY:(RESERVED)
DESCRIPTION:
URL:https://tguskey.com/event/reserved/
END:VEVENT
BEGIN:VEVENT
DTSTART;VALUE=DATE:20220923
DTEND;VALUE=DATE:20220924
DTSTAMP:20260424T145632
CREATED:20221011T201724Z
LAST-MODIFIED:20221011T201724Z
UID:2379-1663891200-1663977599@tguskey.com
SUMMARY:Greenville Area School District\, Greenville\, PA
DESCRIPTION:
URL:https://tguskey.com/event/greenville-area-school-district-greenville-pa/
END:VEVENT
BEGIN:VEVENT
DTSTART;VALUE=DATE:20220922
DTEND;VALUE=DATE:20220926
DTSTAMP:20260424T145632
CREATED:20220813T175131Z
LAST-MODIFIED:20221011T201755Z
UID:2319-1663804800-1664150399@tguskey.com
SUMMARY:Thiel College\, Greenville\, PA
DESCRIPTION:
URL:https://tguskey.com/event/thiel-college-greenville-pa-2/
END:VEVENT
BEGIN:VEVENT
DTSTART;VALUE=DATE:20220920
DTEND;VALUE=DATE:20220921
DTSTAMP:20260424T145632
CREATED:20220129T230433Z
LAST-MODIFIED:20220129T230433Z
UID:2135-1663632000-1663718399@tguskey.com
SUMMARY:Region 10 Education Service Center\, Dallas\, TX
DESCRIPTION:
URL:https://tguskey.com/event/region-10-education-service-center-dallas-tx/
END:VEVENT
BEGIN:VEVENT
DTSTART;VALUE=DATE:20220915
DTEND;VALUE=DATE:20220916
DTSTAMP:20260424T145632
CREATED:20220813T175108Z
LAST-MODIFIED:20220813T175108Z
UID:2317-1663200000-1663286399@tguskey.com
SUMMARY:School District of Greenfield\, Greenfield\, WI  VIRTUAL
DESCRIPTION:
URL:https://tguskey.com/event/school-district-of-greenfield-greenfield-wi-virtual-3/
END:VEVENT
BEGIN:VEVENT
DTSTART;VALUE=DATE:20220901
DTEND;VALUE=DATE:20220902
DTSTAMP:20260424T145632
CREATED:20220419T214850Z
LAST-MODIFIED:20220419T214850Z
UID:2227-1661990400-1662076799@tguskey.com
SUMMARY:Orono High School\, Orono\, MN
DESCRIPTION:
URL:https://tguskey.com/event/orono-high-school-orono-mn/
END:VEVENT
BEGIN:VEVENT
DTSTART;VALUE=DATE:20220830
DTEND;VALUE=DATE:20220831
DTSTAMP:20260424T145632
CREATED:20211122T172429Z
LAST-MODIFIED:20211122T172429Z
UID:2109-1661817600-1661903999@tguskey.com
SUMMARY:Tower Hill School\, Wilmington\, DE
DESCRIPTION:
URL:https://tguskey.com/event/tower-hill-school-wilmington-de/
END:VEVENT
BEGIN:VEVENT
DTSTART;VALUE=DATE:20220817
DTEND;VALUE=DATE:20220820
DTSTAMP:20260424T145632
CREATED:20220419T214822Z
LAST-MODIFIED:20220419T215849Z
UID:2225-1660694400-1660953599@tguskey.com
SUMMARY:Bethel School District #403\, Spanaway\, WA  VIRTUAL
DESCRIPTION:
URL:https://tguskey.com/event/bethel-school-district-403-spanaway-wa-virtual/
END:VEVENT
BEGIN:VEVENT
DTSTART;VALUE=DATE:20220816
DTEND;VALUE=DATE:20220817
DTSTAMP:20260424T145632
CREATED:20220813T175032Z
LAST-MODIFIED:20220813T175032Z
UID:2315-1660608000-1660694399@tguskey.com
SUMMARY:Barbara Worth Junior High School\, Brawley\, CA  VIRTUAL
DESCRIPTION:
URL:https://tguskey.com/event/barbara-worth-junior-high-school-brawley-ca-virtual-2/
END:VEVENT
BEGIN:VEVENT
DTSTART;VALUE=DATE:20220816
DTEND;VALUE=DATE:20220817
DTSTAMP:20260424T145632
CREATED:20220514T151300Z
LAST-MODIFIED:20220514T151300Z
UID:2267-1660608000-1660694399@tguskey.com
SUMMARY:Illinois Mathematics and Science Academy\, Aurora\, IL  VIRTUAL
DESCRIPTION:
URL:https://tguskey.com/event/illinois-mathematics-and-science-academy-aurora-il-virtual-2/
END:VEVENT
BEGIN:VEVENT
DTSTART;VALUE=DATE:20220811
DTEND;VALUE=DATE:20220812
DTSTAMP:20260424T145632
CREATED:20220720T220051Z
LAST-MODIFIED:20220813T174911Z
UID:2303-1660176000-1660262399@tguskey.com
SUMMARY:School District of Greenfield\, Greenfield\, WI   VIRTUAL
DESCRIPTION:
URL:https://tguskey.com/event/school-district-of-greenfield-greenfield-wi-virtual-2/
END:VEVENT
BEGIN:VEVENT
DTSTART;VALUE=DATE:20220807
DTEND;VALUE=DATE:20220810
DTSTAMP:20260424T145632
CREATED:20220616T221120Z
LAST-MODIFIED:20220616T221120Z
UID:2286-1659830400-1660089599@tguskey.com
SUMMARY:San Roberto International School\, Monterrey\, Mexico
DESCRIPTION:
URL:https://tguskey.com/event/san-roberto-international-school-monterrey-mexico/
END:VEVENT
BEGIN:VEVENT
DTSTART;VALUE=DATE:20220803
DTEND;VALUE=DATE:20220804
DTSTAMP:20260424T145632
CREATED:20220813T174753Z
LAST-MODIFIED:20220813T174753Z
UID:2313-1659484800-1659571199@tguskey.com
SUMMARY:Jefferson County Public Schools\, Louisville\, KY  VIRTUAL
DESCRIPTION:
URL:https://tguskey.com/event/jefferson-county-public-schools-louisville-ky-virtual-7/
END:VEVENT
BEGIN:VEVENT
DTSTART;VALUE=DATE:20220729
DTEND;VALUE=DATE:20220730
DTSTAMP:20260424T145632
CREATED:20220813T174728Z
LAST-MODIFIED:20220813T174728Z
UID:2311-1659052800-1659139199@tguskey.com
SUMMARY:Jefferson County Public Schools\, Louisville\, KY  VIRTUAL
DESCRIPTION:
URL:https://tguskey.com/event/jefferson-county-public-schools-louisville-ky-virtual-6/
END:VEVENT
BEGIN:VEVENT
DTSTART;VALUE=DATE:20220727
DTEND;VALUE=DATE:20220729
DTSTAMP:20260424T145632
CREATED:20220219T225236Z
LAST-MODIFIED:20220219T225236Z
UID:2169-1658880000-1659052799@tguskey.com
SUMMARY:Chester County Intermediate Unit\, Downingtown\, PA
DESCRIPTION:
URL:https://tguskey.com/event/chester-county-intermediate-unit-downingtown-pa-2/
END:VEVENT
BEGIN:VEVENT
DTSTART;VALUE=DATE:20220718
DTEND;VALUE=DATE:20220719
DTSTAMP:20260424T145632
CREATED:20220514T151229Z
LAST-MODIFIED:20220514T151806Z
UID:2265-1658102400-1658188799@tguskey.com
SUMMARY:Johnson City Central School District\, Johnson City\, NY
DESCRIPTION:
URL:https://tguskey.com/event/johnson-city-central-school-district-johnson-city-ny/
END:VEVENT
BEGIN:VEVENT
DTSTART;VALUE=DATE:20220714
DTEND;VALUE=DATE:20220715
DTSTAMP:20260424T145632
CREATED:20220720T215909Z
LAST-MODIFIED:20220720T220223Z
UID:2301-1657756800-1657843199@tguskey.com
SUMMARY:School District of Greenfield\, Greenfield\, WI    VIRTUAL
DESCRIPTION:
URL:https://tguskey.com/event/school-district-of-greenfield-greenfield-wi-virtual/
END:VEVENT
BEGIN:VEVENT
DTSTART;TZID=America/Indiana/Indianapolis:20220628T080000
DTEND;TZID=America/Indiana/Indianapolis:20220628T170000
DTSTAMP:20260424T145632
CREATED:20220419T214743Z
LAST-MODIFIED:20220419T214743Z
UID:2223-1656403200-1656435600@tguskey.com
SUMMARY:William & Mary School of Education\, Williamsburg\, VA
DESCRIPTION:
URL:https://tguskey.com/event/william-mary-school-of-education-williamsburg-va/
END:VEVENT
BEGIN:VEVENT
DTSTART;VALUE=DATE:20220621
DTEND;VALUE=DATE:20220622
DTSTAMP:20260424T145632
CREATED:20220616T221042Z
LAST-MODIFIED:20220616T221042Z
UID:2284-1655769600-1655855999@tguskey.com
SUMMARY:Learner FIRST Leadership Summit\, Winneconne\, WI  VIRTUAL
DESCRIPTION:
URL:https://tguskey.com/event/learner-first-leadership-summit-winneconne-wi-virtual/
END:VEVENT
BEGIN:VEVENT
DTSTART;VALUE=DATE:20220621
DTEND;VALUE=DATE:20220622
DTSTAMP:20260424T145632
CREATED:20220219T225159Z
LAST-MODIFIED:20220419T215756Z
UID:2167-1655769600-1655855999@tguskey.com
SUMMARY:FIRST Educational Resources STAGR Session  VIRTUAL
DESCRIPTION:
URL:https://tguskey.com/event/first-educational-resources-stagr-session-virtual/
END:VEVENT
BEGIN:VEVENT
DTSTART;VALUE=DATE:20220615
DTEND;VALUE=DATE:20220616
DTSTAMP:20260424T145632
CREATED:20220321T213957Z
LAST-MODIFIED:20220321T213957Z
UID:2190-1655251200-1655337599@tguskey.com
SUMMARY:Maryland State Department of Education\, Baltimore\, MD
DESCRIPTION:Maryland State Department of Education\, Baltimore\, MD
URL:https://tguskey.com/event/maryland-state-department-of-education-baltimore-md/
END:VEVENT
BEGIN:VEVENT
DTSTART;VALUE=DATE:20220530
DTEND;VALUE=DATE:20220608
DTSTAMP:20260424T145632
CREATED:20220419T214644Z
LAST-MODIFIED:20220419T214708Z
UID:2221-1653868800-1654646399@tguskey.com
SUMMARY:Athens\, Greece
DESCRIPTION:
URL:https://tguskey.com/event/athens-greece/
END:VEVENT
BEGIN:VEVENT
DTSTART;VALUE=DATE:20220527
DTEND;VALUE=DATE:20220528
DTSTAMP:20260424T145632
CREATED:20211122T172351Z
LAST-MODIFIED:20220419T215624Z
UID:2107-1653609600-1653695999@tguskey.com
SUMMARY:Mountain View Middle School\, Mendham\, NJ  VIRTUAL
DESCRIPTION:
URL:https://tguskey.com/event/mountain-view-middle-school-mendham-nj-virtual/
END:VEVENT
BEGIN:VEVENT
DTSTART;VALUE=DATE:20220525
DTEND;VALUE=DATE:20220526
DTSTAMP:20260424T145632
CREATED:20210907T214719Z
LAST-MODIFIED:20220419T215618Z
UID:2042-1653436800-1653523199@tguskey.com
SUMMARY:Branford Public Schools\, Branford\, CT  VIRTUAL
DESCRIPTION:
URL:https://tguskey.com/event/branford-public-schools-branford-ct-virtual-3/
END:VEVENT
BEGIN:VEVENT
DTSTART;VALUE=DATE:20220524
DTEND;VALUE=DATE:20220525
DTSTAMP:20260424T145632
CREATED:20220419T214559Z
LAST-MODIFIED:20220419T214559Z
UID:2218-1653350400-1653436799@tguskey.com
SUMMARY:Khan Academy\, Mountain View\, CA - VIRTUAL
DESCRIPTION:
URL:https://tguskey.com/event/khan-academy-mountain-view-ca-virtual/
END:VEVENT
BEGIN:VEVENT
DTSTART;VALUE=DATE:20220518
DTEND;VALUE=DATE:20220519
DTSTAMP:20260424T145632
CREATED:20220514T151158Z
LAST-MODIFIED:20220514T152016Z
UID:2263-1652832000-1652918399@tguskey.com
SUMMARY:Johnson City Central School District\, Johnson City\, NY - VIRTUAL
DESCRIPTION:
URL:https://tguskey.com/event/johnson-city-central-school-district-johnson-city-ny-virtual/
END:VEVENT
BEGIN:VEVENT
DTSTART;VALUE=DATE:20220513
DTEND;VALUE=DATE:20220514
DTSTAMP:20260424T145632
CREATED:20220514T151134Z
LAST-MODIFIED:20220514T151134Z
UID:2261-1652400000-1652486399@tguskey.com
SUMMARY:Illinois Mathematics and Science Academy\, Aurora\, IL  VIRTUAL
DESCRIPTION:
URL:https://tguskey.com/event/illinois-mathematics-and-science-academy-aurora-il-virtual/
END:VEVENT
BEGIN:VEVENT
DTSTART;VALUE=DATE:20220506
DTEND;VALUE=DATE:20220507
DTSTAMP:20260424T145632
CREATED:20220419T214431Z
LAST-MODIFIED:20220419T214431Z
UID:2214-1651795200-1651881599@tguskey.com
SUMMARY:Gowanda Central School District\, Gowanda\, NY
DESCRIPTION:
URL:https://tguskey.com/event/gowanda-central-school-district-gowanda-ny/
END:VEVENT
BEGIN:VEVENT
DTSTART;VALUE=DATE:20220503
DTEND;VALUE=DATE:20220504
DTSTAMP:20260424T145632
CREATED:20220419T214401Z
LAST-MODIFIED:20220419T215550Z
UID:2212-1651536000-1651622399@tguskey.com
SUMMARY:Chapters International Session for International School Leaders  VIRTUAL
DESCRIPTION:
URL:https://tguskey.com/event/chapters-international-session-for-international-school-leaders-virtual-4/
END:VEVENT
BEGIN:VEVENT
DTSTART;TZID=America/Indiana/Indianapolis:20220427T080000
DTEND;TZID=America/Indiana/Indianapolis:20220427T170000
DTSTAMP:20260424T145632
CREATED:20220330T190834Z
LAST-MODIFIED:20220419T215520Z
UID:2201-1651046400-1651078800@tguskey.com
SUMMARY:Cognition Education Group\, Auckland\, New Zealand  VIRTUAL
DESCRIPTION:
URL:https://tguskey.com/event/cognition-education-group-auckland-new-zealand-virtual/
END:VEVENT
END:VCALENDAR