BEGIN:VCALENDAR
VERSION:2.0
PRODID:-//Thomas R. Guskey &amp; Associates - ECPv6.15.15//NONSGML v1.0//EN
CALSCALE:GREGORIAN
METHOD:PUBLISH
X-WR-CALNAME:Thomas R. Guskey &amp; Associates
X-ORIGINAL-URL:https://tguskey.com
X-WR-CALDESC:Events for Thomas R. Guskey &amp; Associates
REFRESH-INTERVAL;VALUE=DURATION:PT1H
X-Robots-Tag:noindex
X-PUBLISHED-TTL:PT1H
BEGIN:VTIMEZONE
TZID:America/Indiana/Indianapolis
BEGIN:DAYLIGHT
TZOFFSETFROM:-0500
TZOFFSETTO:-0400
TZNAME:EDT
DTSTART:20200308T070000
END:DAYLIGHT
BEGIN:STANDARD
TZOFFSETFROM:-0400
TZOFFSETTO:-0500
TZNAME:EST
DTSTART:20201101T060000
END:STANDARD
BEGIN:DAYLIGHT
TZOFFSETFROM:-0500
TZOFFSETTO:-0400
TZNAME:EDT
DTSTART:20210314T070000
END:DAYLIGHT
BEGIN:STANDARD
TZOFFSETFROM:-0400
TZOFFSETTO:-0500
TZNAME:EST
DTSTART:20211107T060000
END:STANDARD
BEGIN:DAYLIGHT
TZOFFSETFROM:-0500
TZOFFSETTO:-0400
TZNAME:EDT
DTSTART:20220313T070000
END:DAYLIGHT
BEGIN:STANDARD
TZOFFSETFROM:-0400
TZOFFSETTO:-0500
TZNAME:EST
DTSTART:20221106T060000
END:STANDARD
BEGIN:DAYLIGHT
TZOFFSETFROM:-0500
TZOFFSETTO:-0400
TZNAME:EDT
DTSTART:20230312T070000
END:DAYLIGHT
BEGIN:STANDARD
TZOFFSETFROM:-0400
TZOFFSETTO:-0500
TZNAME:EST
DTSTART:20231105T060000
END:STANDARD
END:VTIMEZONE
BEGIN:VEVENT
DTSTART;VALUE=DATE:20220426
DTEND;VALUE=DATE:20220427
DTSTAMP:20260424T193609
CREATED:20220419T214322Z
LAST-MODIFIED:20220419T215512Z
UID:2210-1650931200-1651017599@tguskey.com
SUMMARY:Chapters International Session for International School Leaders  VIRTUAL
DESCRIPTION:
URL:https://tguskey.com/event/chapters-international-session-for-international-school-leaders-virtual-3/
END:VEVENT
BEGIN:VEVENT
DTSTART;VALUE=DATE:20220422
DTEND;VALUE=DATE:20220426
DTSTAMP:20260424T193609
CREATED:20210427T204108Z
LAST-MODIFIED:20210427T204108Z
UID:1924-1650585600-1650931199@tguskey.com
SUMMARY:American Educational Research Association Meeting\, San Diego\, CA
DESCRIPTION:
URL:https://tguskey.com/event/american-educational-research-association-meeting-san-diego-ca/
END:VEVENT
BEGIN:VEVENT
DTSTART;VALUE=DATE:20220412
DTEND;VALUE=DATE:20220413
DTSTAMP:20260424T193609
CREATED:20220419T214218Z
LAST-MODIFIED:20220419T214218Z
UID:2208-1649721600-1649807999@tguskey.com
SUMMARY:Chapters International Session for International School Leaders - VIRTUAL
DESCRIPTION:
URL:https://tguskey.com/event/chapters-international-session-for-international-school-leaders-virtual-2/
END:VEVENT
BEGIN:VEVENT
DTSTART;VALUE=DATE:20220412
DTEND;VALUE=DATE:20220413
DTSTAMP:20260424T193609
CREATED:20220212T230049Z
LAST-MODIFIED:20220419T215448Z
UID:2175-1649721600-1649807999@tguskey.com
SUMMARY:Lake Washington School District\, Redmond\, WA  VIRTUAL
DESCRIPTION:
URL:https://tguskey.com/event/lake-washington-school-district-redmond-wa-virtual-3/
END:VEVENT
BEGIN:VEVENT
DTSTART;VALUE=DATE:20220407
DTEND;VALUE=DATE:20220408
DTSTAMP:20260424T193609
CREATED:20220330T190730Z
LAST-MODIFIED:20220419T215440Z
UID:2199-1649289600-1649375999@tguskey.com
SUMMARY:Helena Public Schools\, Helena\, MT  VIRTUAL
DESCRIPTION:
URL:https://tguskey.com/event/helena-public-schools-helena-mt-virtual/
END:VEVENT
BEGIN:VEVENT
DTSTART;VALUE=DATE:20220405
DTEND;VALUE=DATE:20220406
DTSTAMP:20260424T193609
CREATED:20220419T214142Z
LAST-MODIFIED:20220419T215431Z
UID:2206-1649116800-1649203199@tguskey.com
SUMMARY:Chapters International Session for International School Leaders  VIRTUAL
DESCRIPTION:
URL:https://tguskey.com/event/chapters-international-session-for-international-school-leaders-virtual/
END:VEVENT
BEGIN:VEVENT
DTSTART;VALUE=DATE:20220404
DTEND;VALUE=DATE:20220405
DTSTAMP:20260424T193609
CREATED:20211228T213320Z
LAST-MODIFIED:20211228T213320Z
UID:2122-1649030400-1649116799@tguskey.com
SUMMARY:Masconomet Regional High School\, Boxford\, MA
DESCRIPTION:
URL:https://tguskey.com/event/masconomet-regional-high-school-boxford-ma/
END:VEVENT
BEGIN:VEVENT
DTSTART;VALUE=DATE:20220323
DTEND;VALUE=DATE:20220324
DTSTAMP:20260424T193609
CREATED:20210907T214613Z
LAST-MODIFIED:20220419T215253Z
UID:2038-1647993600-1648079999@tguskey.com
SUMMARY:Bethlehem Area School District\, Bethlehem\, PA - VIRTUAL
DESCRIPTION:Bethlehem Area School District\, Bethlehem\, PA (VIRTUAL
URL:https://tguskey.com/event/bethlehem-area-school-district-bethlehem-pa-virtual-2/
END:VEVENT
BEGIN:VEVENT
DTSTART;VALUE=DATE:20220321
DTEND;VALUE=DATE:20220322
DTSTAMP:20260424T193609
CREATED:20220219T224802Z
LAST-MODIFIED:20220419T215303Z
UID:2161-1647820800-1647907199@tguskey.com
SUMMARY:Jefferson County Public Schools\, Louisville\, KY - VIRTUAL
DESCRIPTION:
URL:https://tguskey.com/event/jefferson-county-public-schools-louisville-ky-virtual-10/
END:VEVENT
BEGIN:VEVENT
DTSTART;VALUE=DATE:20220316
DTEND;VALUE=DATE:20220317
DTSTAMP:20260424T193609
CREATED:20220321T213355Z
LAST-MODIFIED:20220321T213355Z
UID:2181-1647388800-1647475199@tguskey.com
SUMMARY:Maryland State Department of Education\, Baltimore\, MD - VIRTUAL
DESCRIPTION:Maryland State Department of Education\, Baltimore\, MD – VIRTUAL
URL:https://tguskey.com/event/maryland-state-department-of-education-baltimore-md-virtual-2/
END:VEVENT
BEGIN:VEVENT
DTSTART;VALUE=DATE:20220309
DTEND;VALUE=DATE:20220310
DTSTAMP:20260424T193609
CREATED:20220129T231910Z
LAST-MODIFIED:20220129T231910Z
UID:2141-1646784000-1646870399@tguskey.com
SUMMARY:Evansville Vanderburgh School Corporation\, Evansville\, IN  VIRTUAL
DESCRIPTION:
URL:https://tguskey.com/event/evansville-vanderburgh-school-corporation-evansville-in-virtual/
END:VEVENT
BEGIN:VEVENT
DTSTART;VALUE=DATE:20220308
DTEND;VALUE=DATE:20220309
DTSTAMP:20260424T193609
CREATED:20211228T213905Z
LAST-MODIFIED:20220419T215312Z
UID:2126-1646697600-1646783999@tguskey.com
SUMMARY:FIRST Educational Resources  STAGR Conference - VIRTUAL
DESCRIPTION:
URL:https://tguskey.com/event/first-educational-resources-stagr-conference-virtual/
END:VEVENT
BEGIN:VEVENT
DTSTART;VALUE=DATE:20220301
DTEND;VALUE=DATE:20220302
DTSTAMP:20260424T193609
CREATED:20220219T224734Z
LAST-MODIFIED:20220419T215321Z
UID:2159-1646092800-1646179199@tguskey.com
SUMMARY:Lake Washington School District\, Redmond\, WA - VIRTUAL
DESCRIPTION:
URL:https://tguskey.com/event/lake-washington-school-district-redmond-wa-virtual/
END:VEVENT
BEGIN:VEVENT
DTSTART;VALUE=DATE:20220228
DTEND;VALUE=DATE:20220301
DTSTAMP:20260424T193609
CREATED:20210930T210840Z
LAST-MODIFIED:20210930T210840Z
UID:2058-1646006400-1646092799@tguskey.com
SUMMARY:Jefferson County Public Schools\, Louisville\, KY  VIRTUAL
DESCRIPTION:
URL:https://tguskey.com/event/jefferson-county-public-schools-louisville-ky-virtual-5/
END:VEVENT
BEGIN:VEVENT
DTSTART;VALUE=DATE:20220223
DTEND;VALUE=DATE:20220224
DTSTAMP:20260424T193609
CREATED:20210601T223037Z
LAST-MODIFIED:20210601T223037Z
UID:1960-1645574400-1645660799@tguskey.com
SUMMARY:Cooperative Education Agency #7\, Green Bay\, WI  VIRTUAL
DESCRIPTION:
URL:https://tguskey.com/event/cooperative-education-agency-7-green-bay-wi-virtual-3/
END:VEVENT
BEGIN:VEVENT
DTSTART;VALUE=DATE:20220221
DTEND;VALUE=DATE:20220222
DTSTAMP:20260424T193609
CREATED:20211008T182920Z
LAST-MODIFIED:20211008T182920Z
UID:2086-1645401600-1645487999@tguskey.com
SUMMARY:Awty International School\, Houston\, TX  VIRTUAL
DESCRIPTION:
URL:https://tguskey.com/event/awty-international-school-houston-tx-virtual-2/
END:VEVENT
BEGIN:VEVENT
DTSTART;VALUE=DATE:20220218
DTEND;VALUE=DATE:20220221
DTSTAMP:20260424T193609
CREATED:20210907T214535Z
LAST-MODIFIED:20210907T214535Z
UID:2036-1645142400-1645401599@tguskey.com
SUMMARY:Stanford University Learning and the Brain Conference\, San Francisco\, CA
DESCRIPTION:
URL:https://tguskey.com/event/stanford-university-learning-and-the-brain-conference-san-francisco-ca/
END:VEVENT
BEGIN:VEVENT
DTSTART;VALUE=DATE:20220214
DTEND;VALUE=DATE:20220215
DTSTAMP:20260424T193609
CREATED:20211008T182846Z
LAST-MODIFIED:20211008T182846Z
UID:2084-1644796800-1644883199@tguskey.com
SUMMARY:Greenfield-Central High School\, Greenfield\, IN  VIRTUAL
DESCRIPTION:
URL:https://tguskey.com/event/greenfield-central-high-school-greenfield-in-virtual-2/
END:VEVENT
BEGIN:VEVENT
DTSTART;VALUE=DATE:20220210
DTEND;VALUE=DATE:20220211
DTSTAMP:20260424T193609
CREATED:20220219T224630Z
LAST-MODIFIED:20220219T224630Z
UID:2157-1644451200-1644537599@tguskey.com
SUMMARY:Jefferson County Public Schools\, Louisville\, KY  VIRTUAL
DESCRIPTION:
URL:https://tguskey.com/event/jefferson-county-public-schools-louisville-ky-virtual-9/
END:VEVENT
BEGIN:VEVENT
DTSTART;VALUE=DATE:20220131
DTEND;VALUE=DATE:20220201
DTSTAMP:20260424T193609
CREATED:20211122T172252Z
LAST-MODIFIED:20220129T230209Z
UID:2105-1643587200-1643673599@tguskey.com
SUMMARY:Watkins Glen Central School District\, Watkins Glen\, NY  VIRTUAL
DESCRIPTION:
URL:https://tguskey.com/event/watkins-glen-central-school-district-watkins-glen-ny-2/
END:VEVENT
BEGIN:VEVENT
DTSTART;VALUE=DATE:20220127
DTEND;VALUE=DATE:20220128
DTSTAMP:20260424T193609
CREATED:20211228T213635Z
LAST-MODIFIED:20211228T213635Z
UID:2124-1643241600-1643327999@tguskey.com
SUMMARY:National Centre for Education of the Republic of Latvia\, Riga\, Latvia  VIRTUAL
DESCRIPTION:
URL:https://tguskey.com/event/national-centre-for-education-of-the-republic-of-latvia-riga-latvia-virtual-3/
END:VEVENT
BEGIN:VEVENT
DTSTART;VALUE=DATE:20220124
DTEND;VALUE=DATE:20220125
DTSTAMP:20260424T193609
CREATED:20210930T210815Z
LAST-MODIFIED:20210930T210815Z
UID:2056-1642982400-1643068799@tguskey.com
SUMMARY:Jefferson County Public Schools\, Louisville\, KY  VIRTUAL
DESCRIPTION:
URL:https://tguskey.com/event/jefferson-county-public-schools-louisville-ky-virtual-4/
END:VEVENT
BEGIN:VEVENT
DTSTART;VALUE=DATE:20220119
DTEND;VALUE=DATE:20220120
DTSTAMP:20260424T193609
CREATED:20211122T171913Z
LAST-MODIFIED:20211122T171913Z
UID:2102-1642550400-1642636799@tguskey.com
SUMMARY:Scottish Council of Independent Schools\, Edinburgh\, Scotland  VIRTUAL
DESCRIPTION:
URL:https://tguskey.com/event/scottish-council-of-independent-schools-edinburgh-scotland-virtual-2/
END:VEVENT
BEGIN:VEVENT
DTSTART;VALUE=DATE:20220117
DTEND;VALUE=DATE:20220118
DTSTAMP:20260424T193609
CREATED:20211228T213239Z
LAST-MODIFIED:20211228T213239Z
UID:2120-1642377600-1642463999@tguskey.com
SUMMARY:Harper Creek Community Schools\, North Battle Creek\, MI  VIRTUAL
DESCRIPTION:
URL:https://tguskey.com/event/harper-creek-community-schools-north-battle-creek-mi-virtual/
END:VEVENT
BEGIN:VEVENT
DTSTART;VALUE=DATE:20220117
DTEND;VALUE=DATE:20220118
DTSTAMP:20260424T193609
CREATED:20211122T171836Z
LAST-MODIFIED:20211122T171836Z
UID:2100-1642377600-1642463999@tguskey.com
SUMMARY:SMIC Private School - International\, Shanghai\, China  VIRTUAL
DESCRIPTION:
URL:https://tguskey.com/event/smic-private-school-international-shanghai-china-virtual/
END:VEVENT
BEGIN:VEVENT
DTSTART;VALUE=DATE:20220106
DTEND;VALUE=DATE:20220107
DTSTAMP:20260424T193609
CREATED:20210601T223003Z
LAST-MODIFIED:20210601T223003Z
UID:1958-1641427200-1641513599@tguskey.com
SUMMARY:Cooperative Education Agency #7\, Green Bay\, WI  VIRTUAL
DESCRIPTION:
URL:https://tguskey.com/event/cooperative-education-agency-7-green-bay-wi-virtual-2/
END:VEVENT
BEGIN:VEVENT
DTSTART;VALUE=DATE:20211221
DTEND;VALUE=DATE:20211222
DTSTAMP:20260424T193609
CREATED:20210601T222921Z
LAST-MODIFIED:20210601T222921Z
UID:1956-1640044800-1640131199@tguskey.com
SUMMARY:Cooperative Education Agency #7\, Green Bay\, WI VIRTUAL
DESCRIPTION:
URL:https://tguskey.com/event/cooperative-education-agency-7-green-bay-wi-virtual/
END:VEVENT
BEGIN:VEVENT
DTSTART;VALUE=DATE:20211212
DTEND;VALUE=DATE:20211219
DTSTAMP:20260424T193609
CREATED:20211008T182808Z
LAST-MODIFIED:20211008T182808Z
UID:2082-1639267200-1639871999@tguskey.com
SUMMARY:Holiday
DESCRIPTION:Holiday
URL:https://tguskey.com/event/holiday/
END:VEVENT
BEGIN:VEVENT
DTSTART;VALUE=DATE:20211208
DTEND;VALUE=DATE:20211209
DTSTAMP:20260424T193609
CREATED:20210930T211859Z
LAST-MODIFIED:20210930T211859Z
UID:2070-1638921600-1639007999@tguskey.com
SUMMARY:Branford Public Schools\, Branford\, CT  VIRTUAL
DESCRIPTION:
URL:https://tguskey.com/event/branford-public-schools-branford-ct-virtual-4/
END:VEVENT
BEGIN:VEVENT
DTSTART;VALUE=DATE:20211205
DTEND;VALUE=DATE:20211206
DTSTAMP:20260424T193609
CREATED:20211228T213201Z
LAST-MODIFIED:20211228T213201Z
UID:2118-1638662400-1638748799@tguskey.com
SUMMARY:Preconference Session at Learning Forward Annual Conference  VIRTUAL
DESCRIPTION:
URL:https://tguskey.com/event/preconference-session-at-learning-forward-annual-conference-virtual-2/
END:VEVENT
END:VCALENDAR