BEGIN:VCALENDAR
VERSION:2.0
PRODID:-//Thomas R. Guskey &amp; Associates - ECPv6.15.15//NONSGML v1.0//EN
CALSCALE:GREGORIAN
METHOD:PUBLISH
X-WR-CALNAME:Thomas R. Guskey &amp; Associates
X-ORIGINAL-URL:https://tguskey.com
X-WR-CALDESC:Events for Thomas R. Guskey &amp; Associates
REFRESH-INTERVAL;VALUE=DURATION:PT1H
X-Robots-Tag:noindex
X-PUBLISHED-TTL:PT1H
BEGIN:VTIMEZONE
TZID:America/Indiana/Indianapolis
BEGIN:DAYLIGHT
TZOFFSETFROM:-0500
TZOFFSETTO:-0400
TZNAME:EDT
DTSTART:20230312T070000
END:DAYLIGHT
BEGIN:STANDARD
TZOFFSETFROM:-0400
TZOFFSETTO:-0500
TZNAME:EST
DTSTART:20231105T060000
END:STANDARD
BEGIN:DAYLIGHT
TZOFFSETFROM:-0500
TZOFFSETTO:-0400
TZNAME:EDT
DTSTART:20240310T070000
END:DAYLIGHT
BEGIN:STANDARD
TZOFFSETFROM:-0400
TZOFFSETTO:-0500
TZNAME:EST
DTSTART:20241103T060000
END:STANDARD
BEGIN:DAYLIGHT
TZOFFSETFROM:-0500
TZOFFSETTO:-0400
TZNAME:EDT
DTSTART:20250309T070000
END:DAYLIGHT
BEGIN:STANDARD
TZOFFSETFROM:-0400
TZOFFSETTO:-0500
TZNAME:EST
DTSTART:20251102T060000
END:STANDARD
BEGIN:DAYLIGHT
TZOFFSETFROM:-0500
TZOFFSETTO:-0400
TZNAME:EDT
DTSTART:20260308T070000
END:DAYLIGHT
BEGIN:STANDARD
TZOFFSETFROM:-0400
TZOFFSETTO:-0500
TZNAME:EST
DTSTART:20261101T060000
END:STANDARD
END:VTIMEZONE
BEGIN:VEVENT
DTSTART;VALUE=DATE:20250523
DTEND;VALUE=DATE:20250528
DTSTAMP:20260423T183827
CREATED:20250320T201208Z
LAST-MODIFIED:20250320T201208Z
UID:2872-1747958400-1748390399@tguskey.com
SUMMARY:HighScope School\, Bali\, Indonesia
DESCRIPTION:
URL:https://tguskey.com/event/highscope-school-bali-indonesia/
END:VEVENT
BEGIN:VEVENT
DTSTART;VALUE=DATE:20250518
DTEND;VALUE=DATE:20250523
DTSTAMP:20260423T183827
CREATED:20250320T201136Z
LAST-MODIFIED:20250320T201136Z
UID:2870-1747526400-1747958399@tguskey.com
SUMMARY:Redeo Institute\, Jakarta\, Indonesia
DESCRIPTION:
URL:https://tguskey.com/event/redeo-institute-jakarta-indonesia/
END:VEVENT
BEGIN:VEVENT
DTSTART;VALUE=DATE:20250508
DTEND;VALUE=DATE:20250509
DTSTAMP:20260423T183827
CREATED:20240630T160843Z
LAST-MODIFIED:20240630T160843Z
UID:2759-1746662400-1746748799@tguskey.com
SUMMARY:IL-ASCD\, Chicago\, IL
DESCRIPTION:
URL:https://tguskey.com/event/il-ascd-chicago-il/
END:VEVENT
BEGIN:VEVENT
DTSTART;VALUE=DATE:20250429
DTEND;VALUE=DATE:20250430
DTSTAMP:20260423T183827
CREATED:20241216T210453Z
LAST-MODIFIED:20241216T210453Z
UID:2855-1745884800-1745971199@tguskey.com
SUMMARY:Virtual Spring STAGR Conference\, FIRST Educational Resources - VIRTUAL
DESCRIPTION:
URL:https://tguskey.com/event/virtual-spring-stagr-conference-first-educational-resources-virtual/
END:VEVENT
BEGIN:VEVENT
DTSTART;VALUE=DATE:20250425
DTEND;VALUE=DATE:20250428
DTSTAMP:20260423T183827
CREATED:20230511T185323Z
LAST-MODIFIED:20240827T205148Z
UID:2568-1745539200-1745798399@tguskey.com
SUMMARY:Learning & the Brain Conference\, New York City\, NYeeting\, Denver\, CO
DESCRIPTION:
URL:https://tguskey.com/event/american-educational-research-association-meeting-denver-co/
END:VEVENT
BEGIN:VEVENT
DTSTART;VALUE=DATE:20250414
DTEND;VALUE=DATE:20250415
DTSTAMP:20260423T183827
CREATED:20241122T164705Z
LAST-MODIFIED:20241122T164705Z
UID:2850-1744588800-1744675199@tguskey.com
SUMMARY:Corwin Grading with Integrity Virtual Institute - VIRTUAL
DESCRIPTION:
URL:https://tguskey.com/event/corwin-grading-with-integrity-virtual-institute-virtual/
END:VEVENT
BEGIN:VEVENT
DTSTART;VALUE=DATE:20250407
DTEND;VALUE=DATE:20250409
DTSTAMP:20260423T183827
CREATED:20240630T160806Z
LAST-MODIFIED:20250320T201548Z
UID:2757-1743984000-1744156799@tguskey.com
SUMMARY:Nebraska Learning Forward\, Omaha\, NE
DESCRIPTION:
URL:https://tguskey.com/event/nebraska-learning-forward-lincoln-ne/
END:VEVENT
BEGIN:VEVENT
DTSTART;VALUE=DATE:20250405
DTEND;VALUE=DATE:20250406
DTSTAMP:20260423T183827
CREATED:20241122T164630Z
LAST-MODIFIED:20241122T164630Z
UID:2848-1743811200-1743897599@tguskey.com
SUMMARY:Los Angeles Unified School District\, Los Angeles\, CA - VIRTUAL
DESCRIPTION:
URL:https://tguskey.com/event/los-angeles-unified-school-district-los-angeles-ca-virtual-4/
END:VEVENT
BEGIN:VEVENT
DTSTART;VALUE=DATE:20250326
DTEND;VALUE=DATE:20250327
DTSTAMP:20260423T183827
CREATED:20241122T164558Z
LAST-MODIFIED:20241122T164558Z
UID:2846-1742947200-1743033599@tguskey.com
SUMMARY:Los Angeles Unified School District\, Los Angeles\, CA - VIRTUAL
DESCRIPTION:
URL:https://tguskey.com/event/los-angeles-unified-school-district-los-angeles-ca-virtual-3/
END:VEVENT
BEGIN:VEVENT
DTSTART;VALUE=DATE:20250320
DTEND;VALUE=DATE:20250322
DTSTAMP:20260423T183827
CREATED:20240429T220105Z
LAST-MODIFIED:20240429T220105Z
UID:2727-1742428800-1742601599@tguskey.com
SUMMARY:Brigham Young University\, Provo\, UT
DESCRIPTION:
URL:https://tguskey.com/event/brigham-young-university-provo-ut/
END:VEVENT
BEGIN:VEVENT
DTSTART;VALUE=DATE:20250319
DTEND;VALUE=DATE:20250320
DTSTAMP:20260423T183827
CREATED:20240928T190609Z
LAST-MODIFIED:20240928T190609Z
UID:2815-1742342400-1742428799@tguskey.com
SUMMARY:Cedar Valley High School\, Eagle Mountain\, UT
DESCRIPTION:
URL:https://tguskey.com/event/cedar-valley-high-school-eagle-mountain-ut/
END:VEVENT
BEGIN:VEVENT
DTSTART;VALUE=DATE:20250310
DTEND;VALUE=DATE:20250312
DTSTAMP:20260423T183827
CREATED:20241107T211914Z
LAST-MODIFIED:20241122T164808Z
UID:2834-1741564800-1741737599@tguskey.com
SUMMARY:Woodward Academy\, College Park\, GA
DESCRIPTION:
URL:https://tguskey.com/event/woodward-academy-college-park-ga-2/
END:VEVENT
BEGIN:VEVENT
DTSTART;VALUE=DATE:20250228
DTEND;VALUE=DATE:20250301
DTSTAMP:20260423T183827
CREATED:20241122T164422Z
LAST-MODIFIED:20241122T164422Z
UID:2841-1740700800-1740787199@tguskey.com
SUMMARY:Wayne-Finger Lakes BOCES\, Newark\, NY - VIRTUAL
DESCRIPTION:
URL:https://tguskey.com/event/wayne-finger-lakes-boces-newark-ny-virtual/
END:VEVENT
BEGIN:VEVENT
DTSTART;VALUE=DATE:20250220
DTEND;VALUE=DATE:20250223
DTSTAMP:20260423T183827
CREATED:20240630T160738Z
LAST-MODIFIED:20240630T160738Z
UID:2755-1740009600-1740268799@tguskey.com
SUMMARY:Thiel College\, Greenville\, PA
DESCRIPTION:
URL:https://tguskey.com/event/thiel-college-greenville-pa-4/
END:VEVENT
BEGIN:VEVENT
DTSTART;VALUE=DATE:20250218
DTEND;VALUE=DATE:20250219
DTSTAMP:20260423T183827
CREATED:20241216T210409Z
LAST-MODIFIED:20241216T210409Z
UID:2853-1739836800-1739923199@tguskey.com
SUMMARY:The Winsor School\, Boston\, MA
DESCRIPTION:
URL:https://tguskey.com/event/the-winsor-school-boston-ma-3/
END:VEVENT
BEGIN:VEVENT
DTSTART;VALUE=DATE:20241207
DTEND;VALUE=DATE:20241211
DTSTAMP:20260423T183827
CREATED:20240224T180105Z
LAST-MODIFIED:20240224T180105Z
UID:2697-1733529600-1733875199@tguskey.com
SUMMARY:Learning Forward Conference\, Aurora\, CO
DESCRIPTION:
URL:https://tguskey.com/event/learning-forward-conference-aurora-co/
END:VEVENT
BEGIN:VEVENT
DTSTART;VALUE=DATE:20241204
DTEND;VALUE=DATE:20241205
DTSTAMP:20260423T183827
CREATED:20240630T160647Z
LAST-MODIFIED:20240630T160647Z
UID:2753-1733270400-1733356799@tguskey.com
SUMMARY:Wisconsin Assoc. of School District Administrators\, Menomonee Falls\, WI - VIRTUAL
DESCRIPTION:
URL:https://tguskey.com/event/wisconsin-assoc-of-school-district-administrators-menomonee-falls-wi-virtual/
END:VEVENT
BEGIN:VEVENT
DTSTART;VALUE=DATE:20241202
DTEND;VALUE=DATE:20241203
DTSTAMP:20260423T183827
CREATED:20240928T190518Z
LAST-MODIFIED:20240928T190518Z
UID:2813-1733097600-1733183999@tguskey.com
SUMMARY:St. Mark's School\, Southborough\, MA
DESCRIPTION:
URL:https://tguskey.com/event/st-marks-school-southborough-ma/
END:VEVENT
BEGIN:VEVENT
DTSTART;VALUE=DATE:20241121
DTEND;VALUE=DATE:20241122
DTSTAMP:20260423T183827
CREATED:20241107T211840Z
LAST-MODIFIED:20241107T211840Z
UID:2832-1732147200-1732233599@tguskey.com
SUMMARY:Comprehensive Literacy State Development Seminar\, Frankford\, KY - VIRTUAL
DESCRIPTION:
URL:https://tguskey.com/event/comprehensive-literacy-state-development-seminar-frankford-ky-virtual/
END:VEVENT
BEGIN:VEVENT
DTSTART;VALUE=DATE:20241112
DTEND;VALUE=DATE:20241113
DTSTAMP:20260423T183827
CREATED:20240928T190444Z
LAST-MODIFIED:20240928T190444Z
UID:2811-1731369600-1731455999@tguskey.com
SUMMARY:Wabash Valley Education Center\, West Lafayette\, IN - VIRTUAL
DESCRIPTION:
URL:https://tguskey.com/event/wabash-valley-education-center-west-lafayette-in-virtual/
END:VEVENT
BEGIN:VEVENT
DTSTART;VALUE=DATE:20241023
DTEND;VALUE=DATE:20241024
DTSTAMP:20260423T183827
CREATED:20240630T160458Z
LAST-MODIFIED:20240630T160458Z
UID:2751-1729641600-1729727999@tguskey.com
SUMMARY:NSW Department of Education\, Parramatta\, NSW\, Australia - VIRTUAL
DESCRIPTION:
URL:https://tguskey.com/event/nsw-department-of-education-parramatta-nsw-australia-virtual/
END:VEVENT
BEGIN:VEVENT
DTSTART;VALUE=DATE:20241009
DTEND;VALUE=DATE:20241010
DTSTAMP:20260423T183827
CREATED:20241107T211806Z
LAST-MODIFIED:20241107T211806Z
UID:2830-1728432000-1728518399@tguskey.com
SUMMARY:Competency-Based Education Master Class by Toodle - VIRTUAL
DESCRIPTION:
URL:https://tguskey.com/event/competency-based-education-master-class-by-toodle-virtual/
END:VEVENT
BEGIN:VEVENT
DTSTART;TZID=America/Indiana/Indianapolis:20240930T080000
DTEND;TZID=America/Indiana/Indianapolis:20241003T170000
DTSTAMP:20260423T183827
CREATED:20240429T215910Z
LAST-MODIFIED:20240429T215910Z
UID:2725-1727683200-1727974800@tguskey.com
SUMMARY:Reserved
DESCRIPTION:
URL:https://tguskey.com/event/reserved-5/
END:VEVENT
BEGIN:VEVENT
DTSTART;VALUE=DATE:20240921
DTEND;VALUE=DATE:20240922
DTSTAMP:20260423T183827
CREATED:20240630T160255Z
LAST-MODIFIED:20240630T160255Z
UID:2747-1726876800-1726963199@tguskey.com
SUMMARY:Harry Wong Celebration\, San Francisco\, CA
DESCRIPTION:
URL:https://tguskey.com/event/harry-wong-celebration-san-francisco-ca/
END:VEVENT
BEGIN:VEVENT
DTSTART;VALUE=DATE:20240912
DTEND;VALUE=DATE:20240913
DTSTAMP:20260423T183827
CREATED:20240630T160229Z
LAST-MODIFIED:20240630T160229Z
UID:2745-1726099200-1726185599@tguskey.com
SUMMARY:Corwin Webinar: Grading with Integrity - VIRTUAL
DESCRIPTION:
URL:https://tguskey.com/event/corwin-webinar-grading-with-integrity-virtual/
END:VEVENT
BEGIN:VEVENT
DTSTART;VALUE=DATE:20240828
DTEND;VALUE=DATE:20240830
DTSTAMP:20260423T183827
CREATED:20240827T205003Z
LAST-MODIFIED:20240827T205003Z
UID:2806-1724803200-1724975999@tguskey.com
SUMMARY:- The Winsor School\, Boston\, MA
DESCRIPTION:
URL:https://tguskey.com/event/the-winsor-school-boston-ma-2/
END:VEVENT
BEGIN:VEVENT
DTSTART;VALUE=DATE:20240828
DTEND;VALUE=DATE:20240830
DTSTAMP:20260423T183827
CREATED:20240715T210655Z
LAST-MODIFIED:20240715T210655Z
UID:2769-1724803200-1724975999@tguskey.com
SUMMARY:The Winsor School\, Boston\, MA
DESCRIPTION:
URL:https://tguskey.com/event/the-winsor-school-boston-ma/
END:VEVENT
BEGIN:VEVENT
DTSTART;VALUE=DATE:20240827
DTEND;VALUE=DATE:20240828
DTSTAMP:20260423T183827
CREATED:20240827T204941Z
LAST-MODIFIED:20240827T204941Z
UID:2804-1724716800-1724803199@tguskey.com
SUMMARY:Northport Public Schools\, Northport\, MI - VIRTUAL
DESCRIPTION:
URL:https://tguskey.com/event/northport-public-schools-northport-mi-virtual-2/
END:VEVENT
BEGIN:VEVENT
DTSTART;VALUE=DATE:20240827
DTEND;VALUE=DATE:20240828
DTSTAMP:20260423T183827
CREATED:20240803T161542Z
LAST-MODIFIED:20240803T161542Z
UID:2777-1724716800-1724803199@tguskey.com
SUMMARY:Northport Public Schools\, Northport\, MI - VIRTUAL
DESCRIPTION:
URL:https://tguskey.com/event/northport-public-schools-northport-mi-virtual/
END:VEVENT
BEGIN:VEVENT
DTSTART;TZID=America/Indiana/Indianapolis:20240817T080000
DTEND;TZID=America/Indiana/Indianapolis:20240817T170000
DTSTAMP:20260423T183827
CREATED:20240429T215805Z
LAST-MODIFIED:20240429T215805Z
UID:2722-1723881600-1723914000@tguskey.com
SUMMARY:St. Andrew School Reunion\, Erie\, PA
DESCRIPTION:
URL:https://tguskey.com/event/st-andrew-school-reunion-erie-pa/
END:VEVENT
END:VCALENDAR