BEGIN:VCALENDAR
VERSION:2.0
PRODID:-//Thomas R. Guskey &amp; Associates - ECPv6.15.15//NONSGML v1.0//EN
CALSCALE:GREGORIAN
METHOD:PUBLISH
X-WR-CALNAME:Thomas R. Guskey &amp; Associates
X-ORIGINAL-URL:https://tguskey.com
X-WR-CALDESC:Events for Thomas R. Guskey &amp; Associates
REFRESH-INTERVAL;VALUE=DURATION:PT1H
X-Robots-Tag:noindex
X-PUBLISHED-TTL:PT1H
BEGIN:VTIMEZONE
TZID:America/Indiana/Indianapolis
BEGIN:DAYLIGHT
TZOFFSETFROM:-0500
TZOFFSETTO:-0400
TZNAME:EDT
DTSTART:20220313T070000
END:DAYLIGHT
BEGIN:STANDARD
TZOFFSETFROM:-0400
TZOFFSETTO:-0500
TZNAME:EST
DTSTART:20221106T060000
END:STANDARD
BEGIN:DAYLIGHT
TZOFFSETFROM:-0500
TZOFFSETTO:-0400
TZNAME:EDT
DTSTART:20230312T070000
END:DAYLIGHT
BEGIN:STANDARD
TZOFFSETFROM:-0400
TZOFFSETTO:-0500
TZNAME:EST
DTSTART:20231105T060000
END:STANDARD
BEGIN:DAYLIGHT
TZOFFSETFROM:-0500
TZOFFSETTO:-0400
TZNAME:EDT
DTSTART:20240310T070000
END:DAYLIGHT
BEGIN:STANDARD
TZOFFSETFROM:-0400
TZOFFSETTO:-0500
TZNAME:EST
DTSTART:20241103T060000
END:STANDARD
BEGIN:DAYLIGHT
TZOFFSETFROM:-0500
TZOFFSETTO:-0400
TZNAME:EDT
DTSTART:20250309T070000
END:DAYLIGHT
BEGIN:STANDARD
TZOFFSETFROM:-0400
TZOFFSETTO:-0500
TZNAME:EST
DTSTART:20251102T060000
END:STANDARD
END:VTIMEZONE
BEGIN:VEVENT
DTSTART;TZID=America/Indiana/Indianapolis:20240817T080000
DTEND;TZID=America/Indiana/Indianapolis:20240817T170000
DTSTAMP:20260424T001733
CREATED:20240429T215805Z
LAST-MODIFIED:20240429T215805Z
UID:2722-1723881600-1723914000@tguskey.com
SUMMARY:St. Andrew School Reunion\, Erie\, PA
DESCRIPTION:
URL:https://tguskey.com/event/st-andrew-school-reunion-erie-pa/
END:VEVENT
BEGIN:VEVENT
DTSTART;VALUE=DATE:20240807
DTEND;VALUE=DATE:20240809
DTSTAMP:20260424T001733
CREATED:20231121T223924Z
LAST-MODIFIED:20240403T190750Z
UID:2629-1722988800-1723161599@tguskey.com
SUMMARY:The John Cooper School\, The Woodlands\, TX
DESCRIPTION:
URL:https://tguskey.com/event/the-john-cooper-school-the-woodlands-tx-2/
END:VEVENT
BEGIN:VEVENT
DTSTART;VALUE=DATE:20240731
DTEND;VALUE=DATE:20240801
DTSTAMP:20260424T001733
CREATED:20230418T235545Z
LAST-MODIFIED:20230418T235545Z
UID:2542-1722384000-1722470399@tguskey.com
SUMMARY:Genesee Valley BOCES\, LeRoy\, NY
DESCRIPTION:
URL:https://tguskey.com/event/genesee-valley-boces-leroy-ny/
END:VEVENT
BEGIN:VEVENT
DTSTART;VALUE=DATE:20240724
DTEND;VALUE=DATE:20240725
DTSTAMP:20260424T001733
CREATED:20240630T160158Z
LAST-MODIFIED:20240630T161123Z
UID:2743-1721779200-1721865599@tguskey.com
SUMMARY:Old Tappan Public School District\, Old Tappan\, NJ - VIRTUAL
DESCRIPTION:
URL:https://tguskey.com/event/woodward-academy-college-park-ga-virtual-2/
END:VEVENT
BEGIN:VEVENT
DTSTART;VALUE=DATE:20240715
DTEND;VALUE=DATE:20240716
DTSTAMP:20260424T001733
CREATED:20240630T160126Z
LAST-MODIFIED:20240630T160126Z
UID:2741-1721001600-1721087999@tguskey.com
SUMMARY:Woodward Academy\, College Park\, GA - VIRTUAL
DESCRIPTION:
URL:https://tguskey.com/event/woodward-academy-college-park-ga-virtual/
END:VEVENT
BEGIN:VEVENT
DTSTART;VALUE=DATE:20240708
DTEND;VALUE=DATE:20240711
DTSTAMP:20260424T001733
CREATED:20240224T180010Z
LAST-MODIFIED:20240224T180010Z
UID:2693-1720396800-1720655999@tguskey.com
SUMMARY:Annual Visible Learning Conference\, San Diego\, CA
DESCRIPTION:
URL:https://tguskey.com/event/annual-visible-learning-conference-san-diego-ca-2/
END:VEVENT
BEGIN:VEVENT
DTSTART;VALUE=DATE:20240604
DTEND;VALUE=DATE:20240606
DTSTAMP:20260424T001733
CREATED:20240403T190623Z
LAST-MODIFIED:20240403T190623Z
UID:2715-1717459200-1717631999@tguskey.com
SUMMARY:Region 8 Education Service Center\, Fort Wayne\, IN
DESCRIPTION:
URL:https://tguskey.com/event/region-8-education-service-center-fort-wayne-in/
END:VEVENT
BEGIN:VEVENT
DTSTART;VALUE=DATE:20240527
DTEND;VALUE=DATE:20240530
DTSTAMP:20260424T001733
CREATED:20231228T233314Z
LAST-MODIFIED:20240429T215654Z
UID:2653-1716768000-1717027199@tguskey.com
SUMMARY:Iron County School District\, Cedar City\, UT
DESCRIPTION:
URL:https://tguskey.com/event/iron-county-school-district-cedar-city-ut/
END:VEVENT
BEGIN:VEVENT
DTSTART;VALUE=DATE:20240520
DTEND;VALUE=DATE:20240521
DTSTAMP:20260424T001733
CREATED:20240403T190549Z
LAST-MODIFIED:20240403T190549Z
UID:2713-1716163200-1716249599@tguskey.com
SUMMARY:Los Angeles Unified School District\, Los Angeles\, CA - VIRTUAL
DESCRIPTION:
URL:https://tguskey.com/event/los-angeles-unified-school-district-los-angeles-ca-virtual-2/
END:VEVENT
BEGIN:VEVENT
DTSTART;VALUE=DATE:20240515
DTEND;VALUE=DATE:20240516
DTSTAMP:20260424T001733
CREATED:20240224T175922Z
LAST-MODIFIED:20240224T175922Z
UID:2691-1715731200-1715817599@tguskey.com
SUMMARY:Thiel College\, Greenville\, PA
DESCRIPTION:
URL:https://tguskey.com/event/thiel-college-greenville-pa-3/
END:VEVENT
BEGIN:VEVENT
DTSTART;VALUE=DATE:20240514
DTEND;VALUE=DATE:20240515
DTSTAMP:20260424T001733
CREATED:20231228T233622Z
LAST-MODIFIED:20240106T232539Z
UID:2655-1715644800-1715731199@tguskey.com
SUMMARY:Questar III BOCES\, Castleton-On-Hudson\, NY
DESCRIPTION:
URL:https://tguskey.com/event/questar-iii-boces-castleton-on-hudson-ny-2/
END:VEVENT
BEGIN:VEVENT
DTSTART;VALUE=DATE:20240424
DTEND;VALUE=DATE:20240425
DTSTAMP:20260424T001733
CREATED:20240403T190527Z
LAST-MODIFIED:20240403T190527Z
UID:2711-1713916800-1714003199@tguskey.com
SUMMARY:Frederick County Public Schools\, Winchester\, VA - VIRTUAL
DESCRIPTION:
URL:https://tguskey.com/event/frederick-county-public-schools-winchester-va-virtual/
END:VEVENT
BEGIN:VEVENT
DTSTART;VALUE=DATE:20240413
DTEND;VALUE=DATE:20240414
DTSTAMP:20260424T001733
CREATED:20240403T190459Z
LAST-MODIFIED:20240403T190459Z
UID:2709-1712966400-1713052799@tguskey.com
SUMMARY:Los Angeles Unified School District\, Los Angeles\, CA - VIRTUAL
DESCRIPTION:
URL:https://tguskey.com/event/los-angeles-unified-school-district-los-angeles-ca-virtual/
END:VEVENT
BEGIN:VEVENT
DTSTART;VALUE=DATE:20240411
DTEND;VALUE=DATE:20240415
DTSTAMP:20260424T001733
CREATED:20230511T185157Z
LAST-MODIFIED:20230511T185157Z
UID:2566-1712793600-1713139199@tguskey.com
SUMMARY:American Educational Research Association Meeting\, Philadelphia\, PA
DESCRIPTION:
URL:https://tguskey.com/event/american-educational-research-association-meeting-philadelphia-pa/
END:VEVENT
BEGIN:VEVENT
DTSTART;VALUE=DATE:20240405
DTEND;VALUE=DATE:20240406
DTSTAMP:20260424T001733
CREATED:20240224T175857Z
LAST-MODIFIED:20240224T175857Z
UID:2689-1712275200-1712361599@tguskey.com
SUMMARY:Podcast: Teacher Takeaway\, New South Wales\, Australia - VIRTUAL
DESCRIPTION:
URL:https://tguskey.com/event/podcast-teacher-takeaway-new-south-wales-australia-virtual/
END:VEVENT
BEGIN:VEVENT
DTSTART;VALUE=DATE:20240327
DTEND;VALUE=DATE:20240328
DTSTAMP:20260424T001733
CREATED:20230511T185112Z
LAST-MODIFIED:20230511T185112Z
UID:2564-1711497600-1711583999@tguskey.com
SUMMARY:Northern Valley Regional Consortium\, Demarest\, NJ
DESCRIPTION:
URL:https://tguskey.com/event/northern-valley-regional-consortium-demarest-nj-2/
END:VEVENT
BEGIN:VEVENT
DTSTART;VALUE=DATE:20240322
DTEND;VALUE=DATE:20240326
DTSTAMP:20260424T001733
CREATED:20230709T230928Z
LAST-MODIFIED:20230709T230928Z
UID:2600-1711065600-1711411199@tguskey.com
SUMMARY:ASCD Annual Conference\, Washington\, DC
DESCRIPTION:
URL:https://tguskey.com/event/ascd-annual-conference-washington-dc/
END:VEVENT
BEGIN:VEVENT
DTSTART;VALUE=DATE:20240320
DTEND;VALUE=DATE:20240321
DTSTAMP:20260424T001733
CREATED:20231228T233216Z
LAST-MODIFIED:20231228T233216Z
UID:2649-1710892800-1710979199@tguskey.com
SUMMARY:World Education Summit\, Lincoln\, England - VIRTUAL
DESCRIPTION:
URL:https://tguskey.com/event/world-education-summit-lincoln-england-virtual-2/
END:VEVENT
BEGIN:VEVENT
DTSTART;VALUE=DATE:20240315
DTEND;VALUE=DATE:20240316
DTSTAMP:20260424T001733
CREATED:20240224T175833Z
LAST-MODIFIED:20240224T175833Z
UID:2687-1710460800-1710547199@tguskey.com
SUMMARY:Educational Service Center of Central Ohio\, Columbus\, OH
DESCRIPTION:
URL:https://tguskey.com/event/educational-service-center-of-central-ohio-columbus-oh/
END:VEVENT
BEGIN:VEVENT
DTSTART;VALUE=DATE:20240312
DTEND;VALUE=DATE:20240313
DTSTAMP:20260424T001733
CREATED:20240224T175805Z
LAST-MODIFIED:20240224T175805Z
UID:2685-1710201600-1710287999@tguskey.com
SUMMARY:Montgomery County Public Schools\, Rockville\, MD - VIRTUAL
DESCRIPTION:
URL:https://tguskey.com/event/montgomery-county-public-schools-rockville-md-virtual/
END:VEVENT
BEGIN:VEVENT
DTSTART;VALUE=DATE:20240311
DTEND;VALUE=DATE:20240312
DTSTAMP:20260424T001733
CREATED:20231104T205734Z
LAST-MODIFIED:20231104T205734Z
UID:2616-1710115200-1710201599@tguskey.com
SUMMARY:Woodward Academy\, College Park\, GA
DESCRIPTION:
URL:https://tguskey.com/event/woodward-academy-college-park-ga/
END:VEVENT
BEGIN:VEVENT
DTSTART;VALUE=DATE:20240306
DTEND;VALUE=DATE:20240307
DTSTAMP:20260424T001733
CREATED:20240224T175737Z
LAST-MODIFIED:20240224T175737Z
UID:2683-1709683200-1709769599@tguskey.com
SUMMARY:Maryland State Department of Education\, Baltimore\, MD - VIRTUAL
DESCRIPTION:
URL:https://tguskey.com/event/maryland-state-department-of-education-baltimore-md-virtual-5/
END:VEVENT
BEGIN:VEVENT
DTSTART;VALUE=DATE:20240305
DTEND;VALUE=DATE:20240306
DTSTAMP:20260424T001733
CREATED:20231228T233127Z
LAST-MODIFIED:20231228T233127Z
UID:2647-1709596800-1709683199@tguskey.com
SUMMARY:Podcast: West Chester Area School District\, Exton\, PA - VIRTUAL
DESCRIPTION:
URL:https://tguskey.com/event/podcast-west-chester-area-school-district-exton-pa-virtual/
END:VEVENT
BEGIN:VEVENT
DTSTART;VALUE=DATE:20240225
DTEND;VALUE=DATE:20240229
DTSTAMP:20260424T001733
CREATED:20240224T175708Z
LAST-MODIFIED:20240224T175708Z
UID:2681-1708819200-1709164799@tguskey.com
SUMMARY:Reserved
DESCRIPTION:
URL:https://tguskey.com/event/reserved-4/
END:VEVENT
BEGIN:VEVENT
DTSTART;VALUE=DATE:20240205
DTEND;VALUE=DATE:20240208
DTSTAMP:20260424T001733
CREATED:20231228T233041Z
LAST-MODIFIED:20231228T233041Z
UID:2645-1707091200-1707350399@tguskey.com
SUMMARY:Association for the Advancement of International Education\, New York City\, NY
DESCRIPTION:
URL:https://tguskey.com/event/association-for-the-advancement-of-international-education-new-york-city-ny/
END:VEVENT
BEGIN:VEVENT
DTSTART;VALUE=DATE:20240125
DTEND;VALUE=DATE:20240126
DTSTAMP:20260424T001733
CREATED:20231228T232955Z
LAST-MODIFIED:20231228T232955Z
UID:2643-1706140800-1706227199@tguskey.com
SUMMARY:Complete Mathematics\, London\, United Kingdom - VIRTUAL
DESCRIPTION:
URL:https://tguskey.com/event/complete-mathematics-london-united-kingdom-virtual/
END:VEVENT
BEGIN:VEVENT
DTSTART;VALUE=DATE:20240123
DTEND;VALUE=DATE:20240124
DTSTAMP:20260424T001733
CREATED:20231228T232926Z
LAST-MODIFIED:20240115T182407Z
UID:2641-1705968000-1706054399@tguskey.com
SUMMARY:Frederick County Public Schools\, Winchester\, VA
DESCRIPTION:
URL:https://tguskey.com/event/frederick-county-public-schools-winchester-va/
END:VEVENT
BEGIN:VEVENT
DTSTART;VALUE=DATE:20240109
DTEND;VALUE=DATE:20240110
DTSTAMP:20260424T001733
CREATED:20231104T205622Z
LAST-MODIFIED:20231104T205622Z
UID:2612-1704758400-1704844799@tguskey.com
SUMMARY:Old Tappan Public School District\, Old Tappan\, NJ - VIRTUAL
DESCRIPTION:
URL:https://tguskey.com/event/old-tappan-public-school-district-old-tappan-nj-virtual/
END:VEVENT
BEGIN:VEVENT
DTSTART;VALUE=DATE:20231213
DTEND;VALUE=DATE:20231214
DTSTAMP:20260424T001733
CREATED:20231104T205552Z
LAST-MODIFIED:20231104T205552Z
UID:2610-1702425600-1702511999@tguskey.com
SUMMARY:Maryland State Department of Education\, Baltimore\, MD - VIRTUAL
DESCRIPTION:
URL:https://tguskey.com/event/maryland-state-department-of-education-baltimore-md-virtual-4/
END:VEVENT
BEGIN:VEVENT
DTSTART;VALUE=DATE:20231207
DTEND;VALUE=DATE:20231213
DTSTAMP:20260424T001733
CREATED:20231121T223814Z
LAST-MODIFIED:20231121T223814Z
UID:2627-1701907200-1702425599@tguskey.com
SUMMARY:Reserved
DESCRIPTION:
URL:https://tguskey.com/event/reserved-3/
END:VEVENT
END:VCALENDAR